BEGIN:VCALENDAR
VERSION:2.0
PRODID:< http://www.open2c.de/ >
METHOD:PUBLISH
X-PUBLISHED-TTL:PT12H
BEGIN:VEVENT
CREATED:20211130T105922Z
LAST-MODIFIED:20211130T105940Z
DTSTAMP:20260423T090829Z
DTSTART;VALUE=DATE:20220906
CATEGORIES:Sitzungen
SUMMARY:Bauausschuss
UID:49a8a700ce152612b93fd649d0bd4376@0ee441d5e078812edcc4a31e20a45eea
END:VEVENT
END:VCALENDAR