BEGIN:VCALENDAR
VERSION:2.0
PRODID:< http://www.open2c.de/ >
METHOD:PUBLISH
X-PUBLISHED-TTL:PT12H
BEGIN:VEVENT
CREATED:20260108T080923Z
LAST-MODIFIED:20260108T081056Z
ORGANIZER;CN="BLSV München":MAILTO:Ansprechpartner Frau Susanne Langer\nTel. 08453/338478 oder\nlanger.susi@web.de
DTSTAMP:20260423T084739Z
DTSTART:20260314T080000Z
DTEND:20260315T170000Z
CATEGORIES:Sport
SUMMARY:BLSV-Veranstaltung (Fortbildung\, 15 UE)
DESCRIPTION:Lehrgang: Pilates-Intensiv\, Didaktik &amp\; präzises Coaching R
	eferentin: Marion Liebig   Teilnahme nur nach vorheriger Anmeldung! Organ
	isator BLSV München Kontakt Ansprechpartner Frau Susanne Langer Tel. 0845
	3/338478 oder langer.susi@web.de
LOCATION:Kleine Sporthalle an der Jahnstraße
UID:c2ce1dbb7b1732159b3e7006305047ea@0ee441d5e078812edcc4a31e20a45eea
END:VEVENT
BEGIN:VEVENT
CREATED:20260108T080755Z
LAST-MODIFIED:20260108T080859Z
ORGANIZER;CN="Landkreis Pfaffenhofen\, AWP"
DTSTAMP:20260423T084739Z
DTSTART;VALUE=DATE:20260314
CATEGORIES:Verschiedenes
SUMMARY:Ramadama-Aktion
DESCRIPTION:Kein Ausweichtermin Organisator Landkreis Pfaffenhofen\, AWP
LOCATION:Markt Reichertshofen
UID:8a33184f1107948dcc84a51fb391a07a@0ee441d5e078812edcc4a31e20a45eea
END:VEVENT
BEGIN:VEVENT
CREATED:20260108T075859Z
LAST-MODIFIED:20260108T075954Z
ORGANIZER;CN="Langenbrucker  Theaterbühne"
DTSTAMP:20260423T084739Z
DTSTART;VALUE=DATE:20260314
CATEGORIES:Bühnen
URL:www.langenbrucker-theaterbuehne.de
SUMMARY:Starkbierfest mit Theaterprogramm
DESCRIPTION:Organisator Langenbrucker Theaterbühne
LOCATION:Pfarrer-Höfler-Halle Langenbruck
UID:daa641e0375b8c720d63967764315777@0ee441d5e078812edcc4a31e20a45eea
END:VEVENT
END:VCALENDAR