BEGIN:VCALENDAR
VERSION:2.0
PRODID:< http://www.open2c.de/ >
METHOD:PUBLISH
X-PUBLISHED-TTL:PT12H
BEGIN:VEVENT
CREATED:20251118T100729Z
LAST-MODIFIED:20251118T100933Z
ORGANIZER;CN="Spargel Schiebel"
DTSTAMP:20260419T200155Z
DTSTART;VALUE=DATE:20260425
CATEGORIES:Feste und Feiern
SUMMARY:Hoffest
DESCRIPTION:Das Hoffest findet ganztägig statt Organisator Spargel Schiebe
	l
LOCATION:Spargelhof Schiebel\nMaushof Allee 12\nPörnbach
UID:e534fb0b44c8c184525542589ba10c41@0ee441d5e078812edcc4a31e20a45eea
END:VEVENT
END:VCALENDAR