BEGIN:VCALENDAR
VERSION:1.0
PRODID:Open2CKalenderExportV11
BEGIN:VEVENT
DTSTAMP:20221116T093738Z
DTSTART:20230111T190000Z
DTEND:20230111T190000Z
CATEGORIES:Verschiedenes
SUMMARY:Neujahrsempfang
DESCRIPTION: | Organisator   Markt Reichertshofen | Kontakt   https://www.reichertshofen.de | Tel.:08453/51221
LOCATION:Mensa der GMS Reichertshofen, Pestalozzistraße
UID:eb4df679a5ae6c5e8667d896ebe7b24d-22649a0d1a60e6f7cb872f3badbc2e61
PRIORITY:3
END:VEVENT
END:VCALENDAR
