BEGIN:VCALENDAR
VERSION:1.0
PRODID:Open2CKalenderExportV11
BEGIN:VEVENT
DTSTAMP:20211130T110011Z
DTSTART:20220913T183000Z
DTEND:20220913T183000Z
CATEGORIES:Sitzungen
SUMMARY:Marktgemeinderat
DESCRIPTION:
LOCATION:
UID:f36dd77c476f49fa3c1ac65fd37e3ef6-e5b4082028e558ad3f47b2336c7fd8cf
PRIORITY:3
END:VEVENT
END:VCALENDAR
